BEGIN:VCALENDAR
VERSION:2.0
PRODID:-//wp-events-plugin.com//7.2.3.1//EN
TZID:Europe/Berlin
X-WR-TIMEZONE:Europe/Berlin
BEGIN:VEVENT
UID:487@spulf.de
DTSTART;TZID=Europe/Berlin;VALUE=DATE:20260811
DTEND;TZID=Europe/Berlin;VALUE=DATE:20260817
DTSTAMP:20260415T090439Z
URL:https://spulf.de/veranstaltungen/zeltlager-der-jugend/
SUMMARY:Zeltlager der Jugend
DESCRIPTION:Wir wollen mit euch eine bunte Woche Zeltferien verbringen. Uns
 er Zeltplatz liegt beim Kloster St. Ottilien und hat alles\, was wir brauc
 hen: Eine große Wiese für Spiel und Spaß\, Platz für unsere Zelte und 
 das große Lagerfeuer\, Sanitärräume mit Duschen und WCs. Natürlich hab
 en wir unsere eigene „Feldküche“ dabei und versorgen euch die Tage ü
 ber erstklassig! Untergebracht sind wir in großen\, geschlechtergetrennte
 n Zelten mit Gleichaltrigen.\n\nUnter dem diesjährigen Motto „SPULF im 
 Tiefseechaos“ werden wir in die Tiefen des Meeres eintauchen und abenteu
 erliche Tage auf hoher See erleben. Auf euch wartet ein abwechslungsreiche
 s Programm mit Spielen und jede Menge Spaß. Natürlich bleibt auch Zeit z
 um Ratschen\, Karteln und um den Glauben in unserer Gemeinschaft zu erlebe
 n.\n\nWir freuen uns auf mehr Meer und eine schöne Zeit mit Euch!\n\nTeil
 nehmer: Kinder und Jugendliche von 9 – 15 Jahren\nKosten: 85\,- €* / a
 b zwei Kindern: 70\,- €* p. P.\neinschl. Rundumbetreuung\, Vollverpflegu
 ng und Programm (Getränke werden extra abgerechnet!)\n* Teilnehmer\, die 
 nicht aus Stadt oder Landkreis Augsburg oder AIC kommen zahlen + 15\,- €
 \,\nda sie vom SJR Augsburg nicht bezuschusst werden.\nUns ist wichtig\, d
 ass alle Kinder am Zeltlager teilnehmen können! Wenn der Teilnehmerbeitra
 g für Sie eine finanzielle Herausforderung darstellt\, melden Sie sich ge
 rne vertraulich bei uns (s. Ansprechpartner Pfarreiengemeinschaft)\, wir f
 inden gemeinsam eine Lösung!\nAnmeldung: Bis spätestens 01. Juli 2026 im
  Pfarrbüro St. Pankratius.\n(Die Teilnehmerplätze sind begrenzt! Es zäh
 lt der Eingang der Anmeldung.)\nPfarrbüro St. Pankratius: Friesenstr. 9\,
  86165 Augsburg\nz. Hd. Magdalena Wiesinger\nZahlung: Überweisung des Tei
 lnehmerbeitrags auf folgendes Konto:\nEmpfänger: Kath. Kirchenstiftung Pf
 arreiengemeinschaft St. Pankratius/Unsere Liebe Frau\nBank: VR Bank Augsbu
 rg-Ostallgäu eG\nKontonummer: DE59 7209 0000 0604 0465 28\nVerwendungszwe
 ck:\nZeltlager 2026 - Vor- und Familienname des Teilnehmers\nAnsprechpartn
 er:\nPfarreiengemeinschaft St. Pankratius und Unsere Liebe Frau\nMagdalena
  Wiesinger\, Gemeindeassistentin\nTelefon: 0151 44587382\nE-Mail: magdalen
 a.wiesinger@bistum-augsburg.de\nPfarrjugend – Teamleitung des Zeltlagers
 :\nSebastian Guckert\, Alexander Huber\, Johanna Barwinek\nE-Mail: jugend@
 spulf.de\n\nZeltlager 2026 Einladung und Anmeldung
ATTACH;FMTTYPE=image/jpeg:https://spulf.de/wp-content/uploads/2026/04/Zelt
 lager-2026.jpg
CATEGORIES:Jugend
LOCATION:https://www.erzabtei.de/zeltplatz.html
END:VEVENT
BEGIN:VTIMEZONE
TZID:Europe/Berlin
X-LIC-LOCATION:Europe/Berlin
BEGIN:DAYLIGHT
DTSTART:20260329T030000
TZOFFSETFROM:+0100
TZOFFSETTO:+0200
TZNAME:CEST
END:DAYLIGHT
END:VTIMEZONE
END:VCALENDAR