BEGIN:VCALENDAR
VERSION:2.0
PRODID:-//wp-events-plugin.com//7.2.3.1//EN
TZID:Europe/Berlin
X-WR-TIMEZONE:Europe/Berlin
BEGIN:VEVENT
UID:397@spulf.de
DTSTART;TZID=Europe/Berlin:20260725T140000
DTEND;TZID=Europe/Berlin:20260725T220000
DTSTAMP:20251016T064419Z
URL:https://spulf.de/veranstaltungen/pfarrfest/
SUMMARY:Pfarrfest
DESCRIPTION:
LOCATION:Pfarrzentrum Unsere Liebe Frau\, Blücherstraße 89\, Augsburg\, 8
 6165 \, Deutschland
X-APPLE-STRUCTURED-LOCATION;VALUE=URI;X-ADDRESS=Blücherstraße 89\, Augsbu
 rg\, 86165 \, Deutschland;X-APPLE-RADIUS=100;X-TITLE=Pfarrzentrum Unsere L
 iebe Frau:geo:0,0
END:VEVENT
BEGIN:VTIMEZONE
TZID:Europe/Berlin
X-LIC-LOCATION:Europe/Berlin
BEGIN:DAYLIGHT
DTSTART:20260329T030000
TZOFFSETFROM:+0100
TZOFFSETTO:+0200
TZNAME:CEST
END:DAYLIGHT
END:VTIMEZONE
END:VCALENDAR