BEGIN:VCALENDAR
VERSION:2.0
PRODID:-//wp-events-plugin.com//7.2.3.1//EN
TZID:Europe/Berlin
X-WR-TIMEZONE:Europe/Berlin
BEGIN:VEVENT
UID:460@spulf.de
DTSTART;TZID=Europe/Berlin:20260503T100000
DTEND;TZID=Europe/Berlin:20260503T110000
DTSTAMP:20260210T131034Z
URL:https://spulf.de/veranstaltungen/musik-im-gottesdienst-23/
SUMMARY:Musik im Gottesdienst
DESCRIPTION:W.A. Mozart: Messe in C-Dur KV 317 "Krönungsmesse"\n\nSolisten
 \, Chor und Orchester\n\nLtg: Stefan Poloczek
CATEGORIES:Kirchenmusik
LOCATION:Pfarrkirche Unsere Liebe Frau\, Blücherstraße 91\, Augsburg\,  8
 6165 \, Deutschland
X-APPLE-STRUCTURED-LOCATION;VALUE=URI;X-ADDRESS=Blücherstraße 91\, Augsbu
 rg\,  86165 \, Deutschland;X-APPLE-RADIUS=100;X-TITLE=Pfarrkirche Unsere L
 iebe Frau:geo:0,0
END:VEVENT
BEGIN:VTIMEZONE
TZID:Europe/Berlin
X-LIC-LOCATION:Europe/Berlin
BEGIN:DAYLIGHT
DTSTART:20260329T030000
TZOFFSETFROM:+0100
TZOFFSETTO:+0200
TZNAME:CEST
END:DAYLIGHT
END:VTIMEZONE
END:VCALENDAR