BEGIN:VCALENDAR
VERSION:2.0
PRODID:-//wp-events-plugin.com//7.2.3.1//EN
TZID:Europe/Berlin
X-WR-TIMEZONE:Europe/Berlin
BEGIN:VEVENT
UID:467@spulf.de
DTSTART;TZID=Europe/Berlin:20260508T190000
DTEND;TZID=Europe/Berlin:20260508T193000
DTSTAMP:20260211T112236Z
URL:https://spulf.de/veranstaltungen/lichtspur-2/
SUMMARY:Lichtspur
DESCRIPTION:
ATTACH;FMTTYPE=image/jpeg:https://spulf.de/wp-content/uploads/2025/12/Lich
 tspur.png
CATEGORIES:LICHTSPUR
LOCATION:Pfarrkirche St. Pankratius\, Blücherstraße 13\, Augsburg\, Bayer
 n\, 86165 \, Deutschland
X-APPLE-STRUCTURED-LOCATION;VALUE=URI;X-ADDRESS=Blücherstraße 13\, Augsbu
 rg\, Bayern\, 86165 \, Deutschland;X-APPLE-RADIUS=100;X-TITLE=Pfarrkirche 
 St. Pankratius:geo:0,0
END:VEVENT
BEGIN:VTIMEZONE
TZID:Europe/Berlin
X-LIC-LOCATION:Europe/Berlin
BEGIN:DAYLIGHT
DTSTART:20260329T030000
TZOFFSETFROM:+0100
TZOFFSETTO:+0200
TZNAME:CEST
END:DAYLIGHT
END:VTIMEZONE
END:VCALENDAR