BEGIN:VCALENDAR
VERSION:2.0
PRODID:-//wp-events-plugin.com//7.2.3.1//EN
TZID:Europe/Berlin
X-WR-TIMEZONE:Europe/Berlin
BEGIN:VEVENT
UID:475@spulf.de
DTSTART;TZID=Europe/Berlin:20260714T140000
DTEND;TZID=Europe/Berlin:20260714T160000
DTSTAMP:20260226T201258Z
URL:https://spulf.de/veranstaltungen/bildungsveranstaltung-und-mitgliederv
 ersammlung-mit-wahl-des-vorstandesfrauenbund-st-pankratius/
SUMMARY:Bildungsveranstaltung Frauenbund St. Pankratius
DESCRIPTION:"Welche Botschaft geht vom Vater unser aus?"\nReferent: Richard
  Schwarz\n\nMitgliederversammlung mit Wahl des Vorstandes
CATEGORIES:KDFB St. Pankratius
LOCATION:Pfarrzentrum St. Pankratius\, Brunnenstraße 1\, Augsburg\, 86165\
 , Deutschland
X-APPLE-STRUCTURED-LOCATION;VALUE=URI;X-ADDRESS=Brunnenstraße 1\, Augsburg
 \, 86165\, Deutschland;X-APPLE-RADIUS=100;X-TITLE=Pfarrzentrum St. Pankrat
 ius:geo:0,0
END:VEVENT
BEGIN:VTIMEZONE
TZID:Europe/Berlin
X-LIC-LOCATION:Europe/Berlin
BEGIN:DAYLIGHT
DTSTART:20260329T030000
TZOFFSETFROM:+0100
TZOFFSETTO:+0200
TZNAME:CEST
END:DAYLIGHT
END:VTIMEZONE
END:VCALENDAR