BEGIN:VCALENDAR
VERSION:2.0
PRODID:-//wp-events-plugin.com//7.2.3.1//EN
TZID:Europe/Berlin
X-WR-TIMEZONE:Europe/Berlin
BEGIN:VEVENT
UID:390@spulf.de
DTSTART;TZID=Europe/Berlin:20260508T080000
DTEND;TZID=Europe/Berlin:20260508T130000
DTSTAMP:20250930T214038Z
URL:https://spulf.de/veranstaltungen/ausflug-der-erstkommunionkinder/
SUMMARY:Ausflug der Erstkommunionkinder
DESCRIPTION:
CATEGORIES:Erstkommunion
LOCATION:Pfarrzentrum St. Pankratius\, Brunnenstraße 1\, Augsburg\, 86165\
 , Deutschland
X-APPLE-STRUCTURED-LOCATION;VALUE=URI;X-ADDRESS=Brunnenstraße 1\, Augsburg
 \, 86165\, Deutschland;X-APPLE-RADIUS=100;X-TITLE=Pfarrzentrum St. Pankrat
 ius:geo:0,0
END:VEVENT
BEGIN:VTIMEZONE
TZID:Europe/Berlin
X-LIC-LOCATION:Europe/Berlin
BEGIN:DAYLIGHT
DTSTART:20260329T030000
TZOFFSETFROM:+0100
TZOFFSETTO:+0200
TZNAME:CEST
END:DAYLIGHT
END:VTIMEZONE
END:VCALENDAR