BEGIN:VCALENDAR
VERSION:2.0
PRODID:-//wp-events-plugin.com//7.2.3.1//EN
TZID:Europe/Berlin
X-WR-TIMEZONE:Europe/Berlin
BEGIN:VEVENT
UID:464@spulf.de
DTSTART;TZID=Europe/Berlin:20260531T203000
DTEND;TZID=Europe/Berlin:20260531T213000
DTSTAMP:20260210T131710Z
URL:https://spulf.de/veranstaltungen/5921/
SUMMARY:Musik im Gottesdienst
DESCRIPTION:Bläsersätze zur letzten feierlichen Maiandacht\n\nBlasorchest
 er Augsburg Lechhausen\n\nLtg: Anne Fusshöller
CATEGORIES:Kirchenmusik
LOCATION:Pfarrkirche St. Pankratius\, Blücherstraße 13\, Augsburg\, Bayer
 n\, 86165 \, Deutschland
X-APPLE-STRUCTURED-LOCATION;VALUE=URI;X-ADDRESS=Blücherstraße 13\, Augsbu
 rg\, Bayern\, 86165 \, Deutschland;X-APPLE-RADIUS=100;X-TITLE=Pfarrkirche 
 St. Pankratius:geo:0,0
END:VEVENT
BEGIN:VTIMEZONE
TZID:Europe/Berlin
X-LIC-LOCATION:Europe/Berlin
BEGIN:DAYLIGHT
DTSTART:20260329T030000
TZOFFSETFROM:+0100
TZOFFSETTO:+0200
TZNAME:CEST
END:DAYLIGHT
END:VTIMEZONE
END:VCALENDAR